BEGIN:VCALENDAR
VERSION:2.0
PRODID:-//The Villages Polo Club - ECPv6.15.20//NONSGML v1.0//EN
CALSCALE:GREGORIAN
METHOD:PUBLISH
X-WR-CALNAME:The Villages Polo Club
X-ORIGINAL-URL:https://thevillagespoloclub.com
X-WR-CALDESC:Events for The Villages Polo Club
REFRESH-INTERVAL;VALUE=DURATION:PT1H
X-Robots-Tag:noindex
X-PUBLISHED-TTL:PT1H
BEGIN:VTIMEZONE
TZID:America/New_York
BEGIN:DAYLIGHT
TZOFFSETFROM:-0500
TZOFFSETTO:-0400
TZNAME:EDT
DTSTART:20250309T070000
END:DAYLIGHT
BEGIN:STANDARD
TZOFFSETFROM:-0400
TZOFFSETTO:-0500
TZNAME:EST
DTSTART:20251102T060000
END:STANDARD
BEGIN:DAYLIGHT
TZOFFSETFROM:-0500
TZOFFSETTO:-0400
TZNAME:EDT
DTSTART:20260308T070000
END:DAYLIGHT
BEGIN:STANDARD
TZOFFSETFROM:-0400
TZOFFSETTO:-0500
TZNAME:EST
DTSTART:20261101T060000
END:STANDARD
BEGIN:DAYLIGHT
TZOFFSETFROM:-0500
TZOFFSETTO:-0400
TZNAME:EDT
DTSTART:20270314T070000
END:DAYLIGHT
BEGIN:STANDARD
TZOFFSETFROM:-0400
TZOFFSETTO:-0500
TZNAME:EST
DTSTART:20271107T060000
END:STANDARD
END:VTIMEZONE
BEGIN:VEVENT
DTSTART;TZID=America/New_York:20260331T090000
DTEND;TZID=America/New_York:20260331T120000
DTSTAMP:20260421T222011
CREATED:20260302T171351Z
LAST-MODIFIED:20260302T171351Z
UID:10000541-1774947600-1774958400@thevillagespoloclub.com
SUMMARY:Cloud Chasers
DESCRIPTION:
URL:https://thevillagespoloclub.com/event/cloud-chasers/2026-03-31/
LOCATION:The Villages Polo Club\, 700 N Buena Vista Blvd\, The Villages\, FL\, 32162\, United States
GEO:28.9345928;-81.9977509
X-APPLE-STRUCTURED-LOCATION;VALUE=URI;X-ADDRESS=The Villages Polo Club 700 N Buena Vista Blvd The Villages FL 32162 United States;X-APPLE-RADIUS=500;X-TITLE=700 N Buena Vista Blvd:geo:-81.9977509,28.9345928
END:VEVENT
BEGIN:VEVENT
DTSTART;TZID=America/New_York:20260329T130000
DTEND;TZID=America/New_York:20260329T150000
DTSTAMP:20260421T222011
CREATED:20251222T202631Z
LAST-MODIFIED:20260113T161436Z
UID:10000522-1774789200-1774796400@thevillagespoloclub.com
SUMMARY:Pony Up Polo Boosters Cup
DESCRIPTION:Matches Begin: 1:00 PM\nGates open 90 minutes before each match
URL:https://thevillagespoloclub.com/event/pony-up-polo-boosters-cup-sunday/
LOCATION:The Villages Polo Club\, 700 N Buena Vista Blvd\, The Villages\, FL\, 32162\, United States
ATTACH;FMTTYPE=image/jpeg:https://thevillagespoloclub.com/wp-content/uploads/2026/01/Polo_Pony-Up_Sunday.jpg
GEO:28.9345928;-81.9977509
X-APPLE-STRUCTURED-LOCATION;VALUE=URI;X-ADDRESS=The Villages Polo Club 700 N Buena Vista Blvd The Villages FL 32162 United States;X-APPLE-RADIUS=500;X-TITLE=700 N Buena Vista Blvd:geo:-81.9977509,28.9345928
END:VEVENT
BEGIN:VEVENT
DTSTART;TZID=America/New_York:20260327T150000
DTEND;TZID=America/New_York:20260327T170000
DTSTAMP:20260421T222011
CREATED:20251222T202625Z
LAST-MODIFIED:20260113T161021Z
UID:10000521-1774623600-1774630800@thevillagespoloclub.com
SUMMARY:Pony Up Polo Boosters Cup
DESCRIPTION:Matches Begin: 3:00 PM\nGates open 90 minutes before each match
URL:https://thevillagespoloclub.com/event/pony-up-polo-boosters-cup-friday/
LOCATION:The Villages Polo Club\, 700 N Buena Vista Blvd\, The Villages\, FL\, 32162\, United States
ATTACH;FMTTYPE=image/jpeg:https://thevillagespoloclub.com/wp-content/uploads/2026/01/Polo_Pony-Up_Friday.jpg
GEO:28.9345928;-81.9977509
X-APPLE-STRUCTURED-LOCATION;VALUE=URI;X-ADDRESS=The Villages Polo Club 700 N Buena Vista Blvd The Villages FL 32162 United States;X-APPLE-RADIUS=500;X-TITLE=700 N Buena Vista Blvd:geo:-81.9977509,28.9345928
END:VEVENT
BEGIN:VEVENT
DTSTART;TZID=America/New_York:20260326T090000
DTEND;TZID=America/New_York:20260326T120000
DTSTAMP:20260421T222011
CREATED:20260302T171351Z
LAST-MODIFIED:20260302T171351Z
UID:10000540-1774515600-1774526400@thevillagespoloclub.com
SUMMARY:Cloud Chasers
DESCRIPTION:
URL:https://thevillagespoloclub.com/event/cloud-chasers/2026-03-26/
LOCATION:The Villages Polo Club\, 700 N Buena Vista Blvd\, The Villages\, FL\, 32162\, United States
GEO:28.9345928;-81.9977509
X-APPLE-STRUCTURED-LOCATION;VALUE=URI;X-ADDRESS=The Villages Polo Club 700 N Buena Vista Blvd The Villages FL 32162 United States;X-APPLE-RADIUS=500;X-TITLE=700 N Buena Vista Blvd:geo:-81.9977509,28.9345928
END:VEVENT
BEGIN:VEVENT
DTSTART;TZID=America/New_York:20260324T090000
DTEND;TZID=America/New_York:20260324T120000
DTSTAMP:20260421T222011
CREATED:20260302T171351Z
LAST-MODIFIED:20260302T171351Z
UID:10000539-1774342800-1774353600@thevillagespoloclub.com
SUMMARY:Cloud Chasers
DESCRIPTION:
URL:https://thevillagespoloclub.com/event/cloud-chasers/2026-03-24/
LOCATION:The Villages Polo Club\, 700 N Buena Vista Blvd\, The Villages\, FL\, 32162\, United States
GEO:28.9345928;-81.9977509
X-APPLE-STRUCTURED-LOCATION;VALUE=URI;X-ADDRESS=The Villages Polo Club 700 N Buena Vista Blvd The Villages FL 32162 United States;X-APPLE-RADIUS=500;X-TITLE=700 N Buena Vista Blvd:geo:-81.9977509,28.9345928
END:VEVENT
BEGIN:VEVENT
DTSTART;TZID=America/New_York:20260322T130000
DTEND;TZID=America/New_York:20260322T150000
DTSTAMP:20260421T222011
CREATED:20251222T202551Z
LAST-MODIFIED:20260113T160941Z
UID:10000520-1774184400-1774191600@thevillagespoloclub.com
SUMMARY:The Spring Cup
DESCRIPTION:Matches Begin: 1:00 PM\nGates open 90 minutes before each match
URL:https://thevillagespoloclub.com/event/the-spring-cup-sunday/
LOCATION:The Villages Polo Club\, 700 N Buena Vista Blvd\, The Villages\, FL\, 32162\, United States
ATTACH;FMTTYPE=image/jpeg:https://thevillagespoloclub.com/wp-content/uploads/2026/01/Polo_Spring-Cup_Sunday.jpg
GEO:28.9345928;-81.9977509
X-APPLE-STRUCTURED-LOCATION;VALUE=URI;X-ADDRESS=The Villages Polo Club 700 N Buena Vista Blvd The Villages FL 32162 United States;X-APPLE-RADIUS=500;X-TITLE=700 N Buena Vista Blvd:geo:-81.9977509,28.9345928
END:VEVENT
BEGIN:VEVENT
DTSTART;TZID=America/New_York:20260322T080000
DTEND;TZID=America/New_York:20260322T100000
DTSTAMP:20260421T222011
CREATED:20251006T133737Z
LAST-MODIFIED:20251006T133737Z
UID:10000349-1774166400-1774173600@thevillagespoloclub.com
SUMMARY:Walk MS
DESCRIPTION:
URL:https://thevillagespoloclub.com/event/walk-ms/
LOCATION:The Villages Polo Club\, 700 N Buena Vista Blvd\, The Villages\, FL\, 32162\, United States
GEO:28.9345928;-81.9977509
X-APPLE-STRUCTURED-LOCATION;VALUE=URI;X-ADDRESS=The Villages Polo Club 700 N Buena Vista Blvd The Villages FL 32162 United States;X-APPLE-RADIUS=500;X-TITLE=700 N Buena Vista Blvd:geo:-81.9977509,28.9345928
END:VEVENT
END:VCALENDAR